BEGIN:VCALENDAR
VERSION:2.0
PRODID:-//Compostaje Doméstico - ECPv6.9.0//NONSGML v1.0//EN
CALSCALE:GREGORIAN
METHOD:PUBLISH
X-WR-CALNAME:Compostaje Doméstico
X-ORIGINAL-URL:https://compostaconcogersa.es
X-WR-CALDESC:Eventos para Compostaje Doméstico
REFRESH-INTERVAL;VALUE=DURATION:PT1H
X-Robots-Tag:noindex
X-PUBLISHED-TTL:PT1H
BEGIN:VTIMEZONE
TZID:Europe/Madrid
BEGIN:DAYLIGHT
TZOFFSETFROM:+0100
TZOFFSETTO:+0200
TZNAME:CEST
DTSTART:20240331T010000
END:DAYLIGHT
BEGIN:STANDARD
TZOFFSETFROM:+0200
TZOFFSETTO:+0100
TZNAME:CET
DTSTART:20241027T010000
END:STANDARD
BEGIN:DAYLIGHT
TZOFFSETFROM:+0100
TZOFFSETTO:+0200
TZNAME:CEST
DTSTART:20250330T010000
END:DAYLIGHT
BEGIN:STANDARD
TZOFFSETFROM:+0200
TZOFFSETTO:+0100
TZNAME:CET
DTSTART:20251026T010000
END:STANDARD
BEGIN:DAYLIGHT
TZOFFSETFROM:+0100
TZOFFSETTO:+0200
TZNAME:CEST
DTSTART:20260329T010000
END:DAYLIGHT
BEGIN:STANDARD
TZOFFSETFROM:+0200
TZOFFSETTO:+0100
TZNAME:CET
DTSTART:20261025T010000
END:STANDARD
END:VTIMEZONE
BEGIN:VEVENT
DTSTART;TZID=Europe/Madrid:20260409T120000
DTEND;TZID=Europe/Madrid:20260409T140000
DTSTAMP:20260423T121902
CREATED:20260130T103307Z
LAST-MODIFIED:20260303T111014Z
UID:10000593-1775736000-1775743200@compostaconcogersa.es
SUMMARY:Formación Compostaje Doméstico Riosa 2026
DESCRIPTION:Sesión formativa de la campaña de Compostaje Doméstico dirigida a las las personas convocadas del Ayuntamiento de Riosa. \nPENDIENTE DE REVISIÓN \nFecha: 09/04/2026 \nHora: 12:00 \nLugar: Casa de la Cultura L’Ará
URL:https://compostaconcogersa.es/event/formacion-compostaje-domestico-riosa-2026/
LOCATION:Casa de la Cultura L’Ará
ATTACH;FMTTYPE=image/png:https://compostaconcogersa.es/wp-content/uploads/2026/01/miniatura-charlas-compostaje-domestico-2026.png
END:VEVENT
BEGIN:VEVENT
DTSTART;TZID=Europe/Madrid:20250429T180000
DTEND;TZID=Europe/Madrid:20250429T200000
DTSTAMP:20260423T121902
CREATED:20250328T130747Z
LAST-MODIFIED:20250328T130747Z
UID:10000523-1745949600-1745956800@compostaconcogersa.es
SUMMARY:Formación Compostaje Riosa 2025
DESCRIPTION:Sesión formativa de la Campaña de Compostaje Doméstico dirigida a las las personas convocadas del Ayuntamiento de Riosa.
URL:https://compostaconcogersa.es/event/formacion-compostaje-riosa-2025/
LOCATION:Casa de la Cultura L’Ará
ATTACH;FMTTYPE=image/png:https://compostaconcogersa.es/wp-content/uploads/2024/03/miniatura-charlas-compostaje-domestico.png
END:VEVENT
BEGIN:VEVENT
DTSTART;TZID=Europe/Madrid:20240425T180000
DTEND;TZID=Europe/Madrid:20240425T200000
DTSTAMP:20260423T121902
CREATED:20240307T181839Z
LAST-MODIFIED:20240307T181839Z
UID:10000069-1714068000-1714075200@compostaconcogersa.es
SUMMARY:Formación Compostaje Doméstico 2024 Riosa
DESCRIPTION:Sesión formativa de la Campaña de Compostaje Doméstico.
URL:https://compostaconcogersa.es/event/formacion-compostaje-domestico-2024-riosa-2/
LOCATION:Casa de la Cultura L’Ará
ATTACH;FMTTYPE=image/png:https://compostaconcogersa.es/wp-content/uploads/2024/03/miniatura-charlas-compostaje-domestico.png
END:VEVENT
END:VCALENDAR